BEGIN:VCALENDAR
VERSION:2.0
PRODID:-//Krishna Island - ECPv6.15.20//NONSGML v1.0//EN
CALSCALE:GREGORIAN
METHOD:PUBLISH
X-WR-CALNAME:Krishna Island
X-ORIGINAL-URL:https://krishnaisland.org
X-WR-CALDESC:Events for Krishna Island
REFRESH-INTERVAL;VALUE=DURATION:PT1H
X-Robots-Tag:noindex
X-PUBLISHED-TTL:PT1H
BEGIN:VTIMEZONE
TZID:Europe/Dublin
BEGIN:DAYLIGHT
TZOFFSETFROM:+0000
TZOFFSETTO:+0100
TZNAME:IST
DTSTART:20240331T010000
END:DAYLIGHT
BEGIN:STANDARD
TZOFFSETFROM:+0100
TZOFFSETTO:+0000
TZNAME:GMT
DTSTART:20241027T010000
END:STANDARD
BEGIN:DAYLIGHT
TZOFFSETFROM:+0000
TZOFFSETTO:+0100
TZNAME:IST
DTSTART:20250330T010000
END:DAYLIGHT
BEGIN:STANDARD
TZOFFSETFROM:+0100
TZOFFSETTO:+0000
TZNAME:GMT
DTSTART:20251026T010000
END:STANDARD
BEGIN:DAYLIGHT
TZOFFSETFROM:+0000
TZOFFSETTO:+0100
TZNAME:IST
DTSTART:20260329T010000
END:DAYLIGHT
BEGIN:STANDARD
TZOFFSETFROM:+0100
TZOFFSETTO:+0000
TZNAME:GMT
DTSTART:20261025T010000
END:STANDARD
END:VTIMEZONE
BEGIN:VEVENT
DTSTART;TZID=Europe/Dublin:20250704T130000
DTEND;TZID=Europe/Dublin:20250706T170000
DTSTAMP:20260424T055827
CREATED:20250406T202230Z
LAST-MODIFIED:20250406T202742Z
UID:279383-1751634000-1751821200@krishnaisland.org
SUMMARY:KrishnaFest 4-6 July 2025
DESCRIPTION:A unique opportunity to immerse yourself in the spiritual atmosphere of Bhakti Yoga on the serene Krishna Island\, situated on the beautiful Lough Erne in County Fermanagh. This weekend festival aims to provide an enriching experience\, offering participants a chance to explore the transformative practices of Bhakti Yoga in a peaceful\, natural setting. \nFree from alcohol and drugs\, Krishna Fest is dedicated to fostering a pure and uplifting environment where families and individuals alike can discover the profound benefits of spiritual living\, chanting\, and sacred vegetarian cuisine. Join us to connect deeply with yourself and others in a celebration of devotion\, mindfulness\, and community. \nTickets on sale soon at krishnafest.ie
URL:https://krishnaisland.org/event/krishnafest-4-6-july-2025/
LOCATION:Krishna Island
ATTACH;FMTTYPE=image/jpeg:https://krishnaisland.org/wp-content/uploads/2024/07/visitors.jpg
END:VEVENT
BEGIN:VEVENT
DTSTART;TZID=Europe/Dublin:20250720T120000
DTEND;TZID=Europe/Dublin:20250720T170000
DTSTAMP:20260424T055827
CREATED:20250406T203636Z
LAST-MODIFIED:20250406T203636Z
UID:279387-1753012800-1753030800@krishnaisland.org
SUMMARY:Radha Govinda 39th Anniversary Festival Sunday 20 July 2025
DESCRIPTION:One of our biggest Festivals of the year. Anniversary of installation of Sri Sri Radha Govinda. Come an enjoy the unique celebrations. Including Radha-Govinda’s new outfit\, gorgeous decoration of Radha Govinda and their Altar with a profusion of fresh flowers\, Beautiful Kirtan led by accomplished Kirtan leaders\, opportunities to meet devotess of Radha Govinda who have been serving the Deities at different times over the last 38 years\, Abhishek bathing of Radha-Govinda\, And a huge Feast of Krishna Prasadam.
URL:https://krishnaisland.org/event/radha-govinda-39th-anniversary-festival-sunday-20-july-2025/
LOCATION:Krishna Island
ATTACH;FMTTYPE=image/jpeg:https://krishnaisland.org/wp-content/uploads/2024/01/ThebeautifulSriSriRadhaGovinda.jpg
END:VEVENT
BEGIN:VEVENT
DTSTART;TZID=Europe/Dublin:20250726T110000
DTEND;TZID=Europe/Dublin:20250726T170000
DTSTAMP:20260424T055827
CREATED:20250406T204432Z
LAST-MODIFIED:20250529T210828Z
UID:279389-1753527600-1753549200@krishnaisland.org
SUMMARY:Ratha Yatra\, Festival Of Chariots\, Belfast\, Saturday 26 July 2025
DESCRIPTION:Hare Krishna Dear All\,\nPulling the ropes of the Ratha Yatra chariot symbolises inviting Krishna back into our hearts\, back to the joyful and loving pastimes of Vrindavana. Let’s come together to make this beautiful festival possible in Belfast City Centre\, with your kind support and heartfelt contributions.\nhttps://iskconbelfast.enthuse.com/cf/belfast-rathayatra-2025-festival-of-the-chariots \nJai Jagannath! \nFestival of Chariots refers to the annual Ratha Yatra festival run by the International Society for Krishna Consciousness (ISKCON). \nSri Chaitanya Mahaprabhu appeared 500 years ago. He introduced the Krishna Consciousness Movement. This Ratha Yatra is one of the important aspects of the Krishna Consciousness Movement. It is celebrated in commemoration of Lord Krishna along with His elder brother\, Balarama\, and His younger sister\, Subhadra\, visiting Kurukshetra on the occasion of a solar eclipse. \nJagannatha\, Baladeva and Subhadra. Jagannatha means the Lord of the Universe. Jagat means the moving world. gacchati iti jagat. In the material world\, everything is moving. The planets are moving; the sun is moving; even the trees that stand still are continuously moving. The living entities are also transmigrating from one species of life to another. In that sense also there is constant movement. So this material world is called Jagat and the Supreme Lord is Jagannatha – the proprietor of all these movements. Balarama. Bala means strength and rama means enjoyment. Balabhadra or Balarama gives us spiritual strength to enjoy an eternal blissful life. And then Subhadra: su means auspiciousness and bhadra means well-being. Subhadra\, Jagannatha\, and Balarama combined together are present before us to reclaim us all from the miserable conditions of life. If anyone sees on the cart Jagannatha\, Baladeva\, and Subhadra\, then he does not take birth again in this material world. \nAll are welcome to come and participate in this great festival
URL:https://krishnaisland.org/event/ratha-yatra-festival-of-chariots-belfast-saturday-26-july-2025/
LOCATION:Belfast\, Belfast\, Ireland
ATTACH;FMTTYPE=image/webp:https://krishnaisland.org/wp-content/uploads/2023/10/CC-Compact-580x366-1.webp
END:VEVENT
BEGIN:VEVENT
DTSTART;TZID=Europe/Dublin:20250727T110000
DTEND;TZID=Europe/Dublin:20250727T170000
DTSTAMP:20260424T055827
CREATED:20250406T204659Z
LAST-MODIFIED:20250411T121303Z
UID:279391-1753614000-1753635600@krishnaisland.org
SUMMARY:Ratha Yatra\, Festival Of Chariots\, Dublin\, Sunday 27 July 2025
DESCRIPTION:Festival of Chariots refers to the annual Ratha Yatra festival run by the International Society for Krishna Consciousness (ISKCON). \nSri Chaitanya Mahaprabhu appeared 500 years ago. He introduced the Krishna Consciousness Movement. This Ratha Yatra is one of the important aspects of the Krishna Consciousness Movement. It is celebrated in commemoration of Lord Krishna along with His elder brother\, Balarama\, and His younger sister\, Subhadra\, visiting Kurukshetra on the occasion of a solar eclipse. \nJagannatha\, Baladeva and Subhadra. Jagannatha means the Lord of the Universe. Jagat means the moving world. gacchati iti jagat. In the material world\, everything is moving. The planets are moving; the sun is moving; even the trees that stand still are continuously moving. The living entities are also transmigrating from one species of life to another. In that sense also there is constant movement. So this material world is called Jagat and the Supreme Lord is Jagannatha – the proprietor of all these movements. Balarama. Bala means strength and rama means enjoyment. Balabhadra or Balarama gives us spiritual strength to enjoy an eternal blissful life. And then Subhadra: su means auspiciousness and bhadra means well-being. Subhadra\, Jagannatha\, and Balarama combined together are present before us to reclaim us all from the miserable conditions of life. If anyone sees on the cart Jagannatha\, Baladeva\, and Subhadra\, then he does not take birth again in this material world. \nAll are welcome to come and participate in this great festival
URL:https://krishnaisland.org/event/ratha-yatra-festival-of-chariots-dublin-sunday-27-july-2025/
LOCATION:Dublin\, Parnell Square\, Dublin\, Ireland
ATTACH;FMTTYPE=image/webp:https://krishnaisland.org/wp-content/uploads/2023/10/CC-Compact-580x366-1.webp
END:VEVENT
END:VCALENDAR