BEGIN:VCALENDAR
VERSION:2.0
PRODID:-//Krishna Island - ECPv6.15.20//NONSGML v1.0//EN
CALSCALE:GREGORIAN
METHOD:PUBLISH
X-WR-CALNAME:Krishna Island
X-ORIGINAL-URL:https://krishnaisland.org
X-WR-CALDESC:Events for Krishna Island
REFRESH-INTERVAL;VALUE=DURATION:PT1H
X-Robots-Tag:noindex
X-PUBLISHED-TTL:PT1H
BEGIN:VTIMEZONE
TZID:Europe/Dublin
BEGIN:DAYLIGHT
TZOFFSETFROM:+0000
TZOFFSETTO:+0100
TZNAME:IST
DTSTART:20240331T010000
END:DAYLIGHT
BEGIN:STANDARD
TZOFFSETFROM:+0100
TZOFFSETTO:+0000
TZNAME:GMT
DTSTART:20241027T010000
END:STANDARD
BEGIN:DAYLIGHT
TZOFFSETFROM:+0000
TZOFFSETTO:+0100
TZNAME:IST
DTSTART:20250330T010000
END:DAYLIGHT
BEGIN:STANDARD
TZOFFSETFROM:+0100
TZOFFSETTO:+0000
TZNAME:GMT
DTSTART:20251026T010000
END:STANDARD
BEGIN:DAYLIGHT
TZOFFSETFROM:+0000
TZOFFSETTO:+0100
TZNAME:IST
DTSTART:20260329T010000
END:DAYLIGHT
BEGIN:STANDARD
TZOFFSETFROM:+0100
TZOFFSETTO:+0000
TZNAME:GMT
DTSTART:20261025T010000
END:STANDARD
END:VTIMEZONE
BEGIN:VEVENT
DTSTART;TZID=Europe/Dublin:20250511T120000
DTEND;TZID=Europe/Dublin:20250511T200000
DTSTAMP:20260424T091144
CREATED:20250509T172640Z
LAST-MODIFIED:20250509T173540Z
UID:279615-1746964800-1746993600@krishnaisland.org
SUMMARY:Lord Nrsimhadeva Appearance
DESCRIPTION:Join us at Krishna Island for Lord Nrsimhadeva Appearance \n  \nFerry 12:00 Please plan to arrive at 11:45 \nArati 12.30 ||\nClass – Vidura Prabhu – 13.00 ||\nAbishek 14.00 ||\nPuppet show 14.30 ||\nKirtan 15.00 ||\nPrasadam Feast 15.30 ||\nKirtan 16.30-19.00 ||\nPrasadam Feast for those fasting until Sunset 19.00 ||\nFerry 16.30 \, 17.30\, 18.30 \, 20.00 || \nPrayer to Lord Nrsimha\n(from Sri Dasavatara-stotra\, p. 97) \ntava kara-kamala-vare nakham adbhuta-srngam\ndalita-hiranyakasipu-tanu-bhrngam\nkeshava dhrta-narahari-rupa jaya jagadisa hare \n“O Keshava! O Lord of the universe! O Lord Hari\, who have assumed the form of\nhalf-man\, half-lion! All glories to You! Just as one can easily crush a wasp\nbetween one’s fingernails\, so in the same way the body of the wasp like demon\nHiranyakashipu has been ripped apart by the wonderful pointed nails on Your\nbeautiful lotus hands.” \n“The fourth incarnation is Nrisimhadeva. Nrisimhadeva appeared to save Prahlada Maharaja\, who was five-years-old boy and he was being tortured by his atheistic father. So He appeared from the pillar of the palace as a half-man\, half-lion. Because this Hiranyakasipu took benediction from Brahma that he’ll not be killed by any man or any animal. So the Lord appeared neither man nor animal. This is the difference between the Lord’s intelligence and our intelligence. We are thinking that we can cheat the Lord by our intelligence\, but the Lord is more intelligent than us. This Hiranyakasipu wanted to cheat Brahma by indirect definition. First of all he wanted to become immortal. Brahma said\, “That is not possible because even I am not immortal. Nobody in this material world is immortal. That is not possible.” So Hiranyakasipu\, the demon… The demons are very intelligent. He thought that “Round about way I shall become immortal.” He prayed to Brahma that “Please give me the benediction that I shall not be killed by any man or any animal.” Brahma said\, “Yes\, that is all right.” “I shall not be killed in the sky\, on the water or on land.” Brahma said\, “Oh yes.” “I shall not be killed by any man-made weapons.” “That’s all right.” In this way he utilized his intelligence in so many ways just to come to the conclusion of being immortal. But the Lord is so cunning that He kept intact all the benediction given by Brahma\, still he was killed. He said that “I’ll not be killed either during daytime or night.” Brahma said “Yes.” So he was killed just in the evening\, just in the junction of day and night. You cannot say it is day or night. He took the benediction that “I shall not be killed in the sky\, on the water\, on the land.” So he was killed on His lap. He took the benediction that “I shall not be killed by any man-made or any God-made weapons.” That was given\, “All right.” So he was killed by the nails. In this way\, all the benedictions were kept intact\, still he was killed. Similarly\, we may make plan\, we may make very advancement in scientific knowledge\, but the killing process of nature will be there. Nobody can escape. By our intelligence we cannot escape. The four principles of material existence means birth\, death\, old age and disease. We can manufacture many medicines\, many weapons\, many means\, many methods\, but you cannot escape these four principles of material existence\, however great you may be. That was proved by Hiranyakasipu. Hiranyakasipu was one of the stalwart materialistic and he wanted to live forever\, enjoy\, but he also could not live. Everything was finished” (A.C. Bhaktivedanta Swami Prabhupada. 18th February 1970. Class on Sri Varaha-dwadasi purporting the Dasavatar-stotra – Ten main incarnations of the Lor. Los Angeles.)
URL:https://krishnaisland.org/event/lord-nrsimhadeva-appearance/
LOCATION:Krishna Island
ATTACH;FMTTYPE=image/jpeg:https://krishnaisland.org/wp-content/uploads/2025/05/Nrisimha_b-3737052388.jpg
END:VEVENT
END:VCALENDAR