BEGIN:VCALENDAR
VERSION:2.0
PRODID:-//Krishna Island - ECPv6.15.20//NONSGML v1.0//EN
CALSCALE:GREGORIAN
METHOD:PUBLISH
X-ORIGINAL-URL:https://krishnaisland.org
X-WR-CALDESC:Events for Krishna Island
REFRESH-INTERVAL;VALUE=DURATION:PT1H
X-Robots-Tag:noindex
X-PUBLISHED-TTL:PT1H
BEGIN:VTIMEZONE
TZID:Europe/Dublin
BEGIN:DAYLIGHT
TZOFFSETFROM:+0000
TZOFFSETTO:+0100
TZNAME:IST
DTSTART:20240331T010000
END:DAYLIGHT
BEGIN:STANDARD
TZOFFSETFROM:+0100
TZOFFSETTO:+0000
TZNAME:GMT
DTSTART:20241027T010000
END:STANDARD
BEGIN:DAYLIGHT
TZOFFSETFROM:+0000
TZOFFSETTO:+0100
TZNAME:IST
DTSTART:20250330T010000
END:DAYLIGHT
BEGIN:STANDARD
TZOFFSETFROM:+0100
TZOFFSETTO:+0000
TZNAME:GMT
DTSTART:20251026T010000
END:STANDARD
BEGIN:DAYLIGHT
TZOFFSETFROM:+0000
TZOFFSETTO:+0100
TZNAME:IST
DTSTART:20260329T010000
END:DAYLIGHT
BEGIN:STANDARD
TZOFFSETFROM:+0100
TZOFFSETTO:+0000
TZNAME:GMT
DTSTART:20261025T010000
END:STANDARD
BEGIN:DAYLIGHT
TZOFFSETFROM:+0000
TZOFFSETTO:+0100
TZNAME:IST
DTSTART:20270328T010000
END:DAYLIGHT
BEGIN:STANDARD
TZOFFSETFROM:+0100
TZOFFSETTO:+0000
TZNAME:GMT
DTSTART:20271031T010000
END:STANDARD
END:VTIMEZONE
BEGIN:VEVENT
DTSTART;TZID=Europe/Dublin:20250816T040000
DTEND;TZID=Europe/Dublin:20250817T010000
DTSTAMP:20260424T074132
CREATED:20250406T210534Z
LAST-MODIFIED:20250815T134404Z
UID:279398-1755316800-1755392400@krishnaisland.org
SUMMARY:Sri Krishna Janmastami Saturday 16 August 2025
DESCRIPTION:Sri Krishna Janmashtami is the appearance day of Lord Sri Krishna\, the Supreme Personality of Godhead. The birth of Lord Krishna is one of the biggest celebrations of the year\, celebrated all over the world. \nKrishna means “the all-attractive one”. He is the cause of all causes\, the Supreme personality of the entire creation\, both material and spiritual\, He is the God of all gods\, and the Lord within everything and separate from everything at the same time. This is the day devotees celebrate His beautiful pastimes\, His presence in their lives\, taking time to remember their eternal loving relationship with Him and His presence within all of our hearts. \nKrishna Janmastami is a special day at Krishna Island\, the home of our Radha Krishna Deities. The Festivities start at 04:30 with Mangal Arati\, followed by Deity Greeting at 07:00\, featuring a new outfit and gorgeous flower decorations . \nFestival continues all day\, with opportunites to help with preparations. Celebrations continue from 5pm\, with Kirtan\, Abhishek\, s\, Readings of Krishna’s appearance Lila\, Special talks by our senior devotees\, and special Krishna Drama. The Festival continues until midnight\, with the reveal of another new evening outfit for our Radha-Govinda. \nThis is followed by a Krishna Prasadam Feast just after midnight. \nPlease note: There are opportunities to sponsor the new Radha-Govinda outfits for Janmastami. https://krishnaisland.org/donate/ (Click on Sponsor Radha-Govinda’s Outfit\, you can sponsor in full or in part) \nThere is also opportunities to sponsor the Janmastami Feast or Flowers. https://krishnaisland.org/donate/ (Click on Sponsor Radha-Govinda’s Outfit\, you can choose Feast or Flowers Sponsorship.)
URL:https://krishnaisland.org/event/sri-krishna-janmastami-saturday-16-august-2025/
LOCATION:Krishna Island
CATEGORIES:Events
ATTACH;FMTTYPE=image/webp:https://krishnaisland.org/wp-content/uploads/2024/01/22081921-Sri-Krishna-Janmashtami5-Web-Feature.webp
END:VEVENT
BEGIN:VEVENT
DTSTART;TZID=Europe/Dublin:20250816T120000
DTEND;TZID=Europe/Dublin:20250816T120000
DTSTAMP:20260424T074132
CREATED:20250805T072525Z
LAST-MODIFIED:20250805T073354Z
UID:280290-1755345600-1755345600@krishnaisland.org
SUMMARY:Janmastami Celebrations on Krishna Island. Saturday 16th August 2025
DESCRIPTION:12.00\nBarge\n\n\n12.30\nArati\n\n\n1.00\nClass by His Grace Tulasi Priya Prabhu\n\n\n2.00\nParikrama / Kirtan\n\n\n3.00\nClass by His Grace Raktaka Prabhu\n\n\n4.00\nKirtan\n\n\n5.00\nPrasadam for guests\n\n\n6.30\nArati / Kirtan\n\n\n8.00\nPuppet show\n\n\n8.30\nArati\n\n\n9.00\nAbhisek\n\n\n9.40\nKirtan\n\n\n12.00\nMidnight Arati\n\n\n12.30\nOpening presents for Radha Govinda\n\n\n1.00\nFeast
URL:https://krishnaisland.org/event/janmastami-celebrations-on-krishna-island-saturday-16th-august-2025/
LOCATION:Krishna Island
CATEGORIES:Events
ATTACH;FMTTYPE=image/jpeg:https://krishnaisland.org/wp-content/uploads/2023/10/lord-krsna-img3.jpg
END:VEVENT
BEGIN:VEVENT
DTSTART;TZID=Europe/Dublin:20250817T053000
DTEND;TZID=Europe/Dublin:20250817T140000
DTSTAMP:20260424T074132
CREATED:20250815T132605Z
LAST-MODIFIED:20250815T134114Z
UID:280416-1755408600-1755439200@krishnaisland.org
SUMMARY:Schedule for Srila Prabhupada Vyasa-puja. - 17 August
DESCRIPTION: 05.30\n Mangala arati.\n\n\n 06.00\n Tulsi Puja\n\n\n 08.00\n Deity Greeting\n\n\n 08.10\n Guru Puja\n\n\n 08.45\n Srimad Bhagavatam Class by HDG Srila Prabhupada\n\n\n 09.15\n End Class\n\n\n 10.00\n Abhiseka\, Tulsi Priya Prabhu and Haridas Thakur Prabhu\n\n\n 10.30 – 12.15\n Homages to Srila Prabhupada\n\n\n 12.30\n Puspanjali to Srila Prabhupada led by Tulsi Priya Prabhu\n\n\n 12.45 – 13.30\n Guruvastakam\n\n\n 14.00\n Feast
URL:https://krishnaisland.org/event/schedule-for-srila-prabhupada-vyasa-puja/
LOCATION:Krishna Island
CATEGORIES:Events
ATTACH;FMTTYPE=image/jpeg:https://krishnaisland.org/wp-content/uploads/2024/01/Festival_Prabhupada_Appearance.jpg
END:VEVENT
BEGIN:VEVENT
DTSTART;VALUE=DATE:20250920
DTEND;VALUE=DATE:20250922
DTSTAMP:20260424T074132
CREATED:20250805T073225Z
LAST-MODIFIED:20251206T144532Z
UID:280296-1758326400-1758499199@krishnaisland.org
SUMMARY:Krishna Island Kirtan Fest 2025
DESCRIPTION:Krishna Island Kirtan Fest 2025 Invitation\nDear Devotees to commemorate the 60th Anniversary of Srila Prabhupada\, our Founder Acharya of International Society for Krishna Consciousness arrival in America in September 1965\, we are pleased to announce Krishna Island Kirtan Fest to be held on Saturday & Sunday 20/21 September. \nPreliminary Schedule & Kirtaneers\nOverseas Guest Kirtaneers:\n\nHH Sri Krishna Chaitanya Swami ( Confirmed)\nJagannātha Prabhu ( Confirmed)\nPriya Manjari Mataji ( Confirmed)\nAshoka Krishna Prabhu ( Confirmed)\nGopinath Prabhu (Confirmed)\n\nLocal Kirtaneers:\n\nPat Prabhu\nPavani Mataji\nAnirudha Prabhu\nAnanda Karini Mataji\nJagganath Suta Prabhu\nAbhay Giriraj Prabhu\nSanātan Prabhu\nRaktaka Prabhu\nLilavati Gopi Mataji\nNayana Sundari Mataji\nAlexander Prabhu\nKalyani Mataji\nBhaktin Aishani\n\nMusicians:\n\nSathvik Prabhu – Mridanga\nElena Mataji – Flute\nChitra Lalita – Mridanga\n\nSaturday 20/09\n\n4.30 Mangala Aarti\n5.20 Japa\n7.00 Greeting the Deities\n7.30 SB Class by HG Tulasi Priya Prabhu\n9.00 Breakfast\n11.00 Kirtan\n12.15 Kirtan Festival Opening Speech by Vidura Prabhu\n12.30 Aarti\n13.00 Kirtan\n18.30 Gaura Aarti\n19.30 Dinner\n20.30 Evening Darshan\n21.00 Rest\n\nIn parallel\, prasadam is distributed for lunch from 14.00-16.00. \nSunday 21/09\n\n4.30 Mangala Aarti\n5.20 Japa\n7.00 Greeting the Deities\n7.30 SB Class by HH Sri Krishna Chaitanya Swami\n9.00 Breakfast\n10.30 Kirtan\n12.30 Aarti\n15.30 Feast\n16.30 Additional Kirtan\n18.30 Gaura Aarti\n20.30 Evening Darshan\n21.00 Krishna Island Kirtan Festival Closure\n\nPlease support us in the organising of the event by donating generously: \nhttps://square.link/u/UfCaxfqo?src=sheet \nGet your tickets here
URL:https://krishnaisland.org/event/krishna-island-kirtan-fest-2025/
LOCATION:Krishna Island
CATEGORIES:Events
ATTACH;FMTTYPE=image/jpeg:https://krishnaisland.org/wp-content/uploads/2025/08/Krishna-Island-Kirtan-Fest-202.jpg
END:VEVENT
BEGIN:VEVENT
DTSTART;TZID=Europe/Dublin:20251206T120000
DTEND;TZID=Europe/Dublin:20251206T180000
DTSTAMP:20260424T074132
CREATED:20251202T144522Z
LAST-MODIFIED:20251202T152910Z
UID:280791-1765022400-1765044000@krishnaisland.org
SUMMARY:Japa retreat
DESCRIPTION: 12:00\n Barge\n\n\n 12:30\n Aarti\n\n\n 13:00\n Motivational Speech on Japa by HG Tulasi Priya Prabhu\n\n\n 14:00\n Japa starts\n\n\n 18:00\n Japa ends
URL:https://krishnaisland.org/event/japa-retreat/
LOCATION:Krishna Island
CATEGORIES:Events
ATTACH;FMTTYPE=image/webp:https://krishnaisland.org/wp-content/uploads/2025/12/chant-hare-krishna-jpg.webp
END:VEVENT
BEGIN:VEVENT
DTSTART;TZID=Europe/Dublin:20251227T100000
DTEND;TZID=Europe/Dublin:20251227T180000
DTSTAMP:20260424T074132
CREATED:20251206T151640Z
LAST-MODIFIED:20251206T153447Z
UID:280813-1766829600-1766858400@krishnaisland.org
SUMMARY:End Of Year Kirtan Fest
DESCRIPTION:Dear Devotees\, as we approach the end of this blessed year\, we joyfully invite you to End of Year Kirtan Fest at Krishna Island – A full day to immerse your heart in the holy names!! \nLet us come together in sangha\, uplift our consciousness\, and chant the Maha Mantra with gratitude and devotion as we welcome a new spiritual year. \n“Hare Krishna Hare Krishna\nKrishna Krishna Hare Hare\nHare Rama Hare Rama \nRama Rama Hare Hare” \n8 hours of non-stop kirtan🎉 \nEveryone is warmly welcome😊 \n 
URL:https://krishnaisland.org/event/end-of-year-kirtan-fest/
LOCATION:Krishna Island
CATEGORIES:Events
ATTACH;FMTTYPE=image/png:https://krishnaisland.org/wp-content/uploads/2025/12/IMG-20251203-WA0005-1.png
END:VEVENT
BEGIN:VEVENT
DTSTART;TZID=Europe/Dublin:20260201T123000
DTEND;TZID=Europe/Dublin:20260201T143000
DTSTAMP:20260424T074132
CREATED:20260112T161425Z
LAST-MODIFIED:20260112T161818Z
UID:281003-1769949000-1769956200@krishnaisland.org
SUMMARY:Lord Nityananda's appearance celebration
DESCRIPTION:Join us at Krishna Island for Lord Nityananda’s appearance celebration \nSchedule for the day: \n12:30 PM – Arati \n1:00 PM – Class \n1:45 PM – Abhishek and Kirtan \n2:30 PM – Feast
URL:https://krishnaisland.org/event/lord-nityanandas-appearance-celebration/
LOCATION:Krishna Island
CATEGORIES:Events
ATTACH;FMTTYPE=image/webp:https://krishnaisland.org/wp-content/uploads/2024/01/2023-Nityananda.webp
END:VEVENT
BEGIN:VEVENT
DTSTART;VALUE=DATE:20260301
DTEND;VALUE=DATE:20260302
DTSTAMP:20260424T074132
CREATED:20260219T152315Z
LAST-MODIFIED:20260219T152451Z
UID:281092-1772323200-1772409599@krishnaisland.org
SUMMARY:Gaura Purnima Celebration – Appearance Day of Sri Chaitanya Mahaprabhu
DESCRIPTION:With great joy and devotion\, we invite you to celebrate the divine appearance of Sri Chaitanya Mahaprabhu\, the golden avatāra who spread the chanting of the Holy Names throughout the world.\n\nJoin us at Krishna Island (Inish Rath)\, Enniskillen\, Northern Ireland for a blissful day of kirtan\, abhishek\, spiritual class\, and a sumptuous feast in honour of this most auspicious occasion.\n\nThis sacred festival is an opportunity to come together in congregational chanting and devotion\, as taught by Mahaprabhu for this age of Kali.\n\nTo organise this beautiful celebration\, the estimated expenses are:\n• Flower Decoration – 150€\n• Abhishek – 150€\n• Feast – 350€–500€\n• Barge Fuel – 50€\n• Other Expenses – 150€\n\nIf you would like to support and sponsor this divine festival\, you may kindly donate using the link below:\nhttps://square.link/u/RpR5s7Kb?src=sheet\n\nNo offering is too small — every contribution helps us glorify the Lord and serve the devotees.\n\nWe look forward to celebrating together in kirtan and devotion.\nHaribol!
URL:https://krishnaisland.org/event/gaura-purnima-celebration-appearance-day-of-sri-chaitanya-mahaprabhu/
LOCATION:Krishna Island
CATEGORIES:Events
ATTACH;FMTTYPE=image/jpeg:https://krishnaisland.org/wp-content/uploads/2026/02/Guara-Poornima.jpg
END:VEVENT
BEGIN:VEVENT
DTSTART;VALUE=DATE:20260329
DTEND;VALUE=DATE:20260330
DTSTAMP:20260424T074132
CREATED:20260320T200850Z
LAST-MODIFIED:20260322T093201Z
UID:281158-1774742400-1774828799@krishnaisland.org
SUMMARY:Ram Navami Celebration
DESCRIPTION:Join us for a beautiful and uplifting celebration of the appearance day of Lord Sri Ramachandra on Sunday 29th March\nImmerse yourself in devotion\, spiritual wisdom\, and joyful association in the serene surroundings of Krishna Island. \nSchedule:\n🛶 12:00 noon – Barge\n🪔 12:30 pm – Aarti\n📖 1:00 – 1:45 pm – Class by HG Pavani Mataji\n🎶 1:45 – 2:30 pm – Kirtan\n🍛 2:30 pm – Feast \nLet us come together in the spirit of devotion\, chanting\, and celebration 🙏 \n💛 Support the Festival:\nIf you would like to contribute towards making this celebration special\, please donate here:\nhttps://square.link/u/Dijs0eLs?src=sheet \nYour generosity helps us serve and celebrate with love. \nAll are warmly welcome! 🌸
URL:https://krishnaisland.org/event/ram-navami-celebration/
LOCATION:Krishna Island
CATEGORIES:Events
ATTACH;FMTTYPE=image/jpeg:https://krishnaisland.org/wp-content/uploads/2026/03/Ramnavami.jpg
END:VEVENT
BEGIN:VEVENT
DTSTART;VALUE=DATE:20260425
DTEND;VALUE=DATE:20260427
DTSTAMP:20260424T074132
CREATED:20260407T084141Z
LAST-MODIFIED:20260410T154246Z
UID:281220-1777075200-1777247999@krishnaisland.org
SUMMARY:60th Anniversary of ISKCON at Krishna Island (Inish Rath)
DESCRIPTION:Dear Devotees\, \nSave the sacred dates — 25th & 26th April — as we joyfully celebrate the 60th Anniversary of ISKCON at Krishna Island (Inish Rath) in International Society for Krishna Consciousness. \nTwo full days of non-stop kirtan\, heartfelt prayers\, and powerful association await you at Inish Rath. We will be blessed by many wonderful local devotees along with special international guests\, coming together to glorify the Holy Name in this beautiful spring gathering. \nThis YouTube compilation shares the joy\, tears\, testimonies\, and unforgettable moments from our last Kirtan Fest. Now\, with your support\, we can make this year’s Krishna Island Spring Kirtan Fest even more special. \nPlease donate as little or as much as you can — every offering helps serve the devotees\, facilitate the kirtan\, and glorify Sri Krishna. \n\nLet us unite in seva.\nLet us unite in kirtan.\nLet us celebrate 60 years of ISKCON together.\n\nDonate here: https://square.link/u/UfCaxfqo?src=sheet \nWith gratitude and devotion!!! \n\n\n 
URL:https://krishnaisland.org/event/60th-anniversary-of-iskcon-at-krishna-island-inish-rath/
LOCATION:Krishna Island
CATEGORIES:Events
END:VEVENT
END:VCALENDAR