BEGIN:VCALENDAR
VERSION:2.0
PRODID:-//Krishna Island - ECPv6.15.20//NONSGML v1.0//EN
CALSCALE:GREGORIAN
METHOD:PUBLISH
X-ORIGINAL-URL:https://krishnaisland.org
X-WR-CALDESC:Events for Krishna Island
REFRESH-INTERVAL;VALUE=DURATION:PT1H
X-Robots-Tag:noindex
X-PUBLISHED-TTL:PT1H
BEGIN:VTIMEZONE
TZID:Europe/Dublin
BEGIN:DAYLIGHT
TZOFFSETFROM:+0000
TZOFFSETTO:+0100
TZNAME:IST
DTSTART:20250330T010000
END:DAYLIGHT
BEGIN:STANDARD
TZOFFSETFROM:+0100
TZOFFSETTO:+0000
TZNAME:GMT
DTSTART:20251026T010000
END:STANDARD
BEGIN:DAYLIGHT
TZOFFSETFROM:+0000
TZOFFSETTO:+0100
TZNAME:IST
DTSTART:20260329T010000
END:DAYLIGHT
BEGIN:STANDARD
TZOFFSETFROM:+0100
TZOFFSETTO:+0000
TZNAME:GMT
DTSTART:20261025T010000
END:STANDARD
BEGIN:DAYLIGHT
TZOFFSETFROM:+0000
TZOFFSETTO:+0100
TZNAME:IST
DTSTART:20270328T010000
END:DAYLIGHT
BEGIN:STANDARD
TZOFFSETFROM:+0100
TZOFFSETTO:+0000
TZNAME:GMT
DTSTART:20271031T010000
END:STANDARD
END:VTIMEZONE
BEGIN:VEVENT
DTSTART;VALUE=DATE:20260329
DTEND;VALUE=DATE:20260330
DTSTAMP:20260423T180104
CREATED:20260320T200850Z
LAST-MODIFIED:20260322T093201Z
UID:281158-1774742400-1774828799@krishnaisland.org
SUMMARY:Ram Navami Celebration
DESCRIPTION:Join us for a beautiful and uplifting celebration of the appearance day of Lord Sri Ramachandra on Sunday 29th March\nImmerse yourself in devotion\, spiritual wisdom\, and joyful association in the serene surroundings of Krishna Island. \nSchedule:\n🛶 12:00 noon – Barge\n🪔 12:30 pm – Aarti\n📖 1:00 – 1:45 pm – Class by HG Pavani Mataji\n🎶 1:45 – 2:30 pm – Kirtan\n🍛 2:30 pm – Feast \nLet us come together in the spirit of devotion\, chanting\, and celebration 🙏 \n💛 Support the Festival:\nIf you would like to contribute towards making this celebration special\, please donate here:\nhttps://square.link/u/Dijs0eLs?src=sheet \nYour generosity helps us serve and celebrate with love. \nAll are warmly welcome! 🌸
URL:https://krishnaisland.org/event/ram-navami-celebration/
LOCATION:Krishna Island
CATEGORIES:Events
ATTACH;FMTTYPE=image/jpeg:https://krishnaisland.org/wp-content/uploads/2026/03/Ramnavami.jpg
END:VEVENT
END:VCALENDAR