BEGIN:VCALENDAR
VERSION:2.0
PRODID:-//Krishna Island - ECPv6.15.20//NONSGML v1.0//EN
CALSCALE:GREGORIAN
METHOD:PUBLISH
X-ORIGINAL-URL:https://krishnaisland.org
X-WR-CALDESC:Events for Krishna Island
REFRESH-INTERVAL;VALUE=DURATION:PT1H
X-Robots-Tag:noindex
X-PUBLISHED-TTL:PT1H
BEGIN:VTIMEZONE
TZID:Europe/Dublin
BEGIN:DAYLIGHT
TZOFFSETFROM:+0000
TZOFFSETTO:+0100
TZNAME:IST
DTSTART:20240331T010000
END:DAYLIGHT
BEGIN:STANDARD
TZOFFSETFROM:+0100
TZOFFSETTO:+0000
TZNAME:GMT
DTSTART:20241027T010000
END:STANDARD
BEGIN:DAYLIGHT
TZOFFSETFROM:+0000
TZOFFSETTO:+0100
TZNAME:IST
DTSTART:20250330T010000
END:DAYLIGHT
BEGIN:STANDARD
TZOFFSETFROM:+0100
TZOFFSETTO:+0000
TZNAME:GMT
DTSTART:20251026T010000
END:STANDARD
BEGIN:DAYLIGHT
TZOFFSETFROM:+0000
TZOFFSETTO:+0100
TZNAME:IST
DTSTART:20260329T010000
END:DAYLIGHT
BEGIN:STANDARD
TZOFFSETFROM:+0100
TZOFFSETTO:+0000
TZNAME:GMT
DTSTART:20261025T010000
END:STANDARD
END:VTIMEZONE
BEGIN:VEVENT
DTSTART;TZID=Europe/Dublin:20251227T100000
DTEND;TZID=Europe/Dublin:20251227T180000
DTSTAMP:20260423T230320
CREATED:20251206T151640Z
LAST-MODIFIED:20251206T153447Z
UID:280813-1766829600-1766858400@krishnaisland.org
SUMMARY:End Of Year Kirtan Fest
DESCRIPTION:Dear Devotees\, as we approach the end of this blessed year\, we joyfully invite you to End of Year Kirtan Fest at Krishna Island – A full day to immerse your heart in the holy names!! \nLet us come together in sangha\, uplift our consciousness\, and chant the Maha Mantra with gratitude and devotion as we welcome a new spiritual year. \n“Hare Krishna Hare Krishna\nKrishna Krishna Hare Hare\nHare Rama Hare Rama \nRama Rama Hare Hare” \n8 hours of non-stop kirtan🎉 \nEveryone is warmly welcome😊 \n 
URL:https://krishnaisland.org/event/end-of-year-kirtan-fest/
LOCATION:Krishna Island
CATEGORIES:Events
ATTACH;FMTTYPE=image/png:https://krishnaisland.org/wp-content/uploads/2025/12/IMG-20251203-WA0005-1.png
END:VEVENT
END:VCALENDAR