BEGIN:VCALENDAR
VERSION:2.0
PRODID:-//Krishna Island - ECPv6.15.20//NONSGML v1.0//EN
CALSCALE:GREGORIAN
METHOD:PUBLISH
X-WR-CALNAME:Krishna Island
X-ORIGINAL-URL:https://krishnaisland.org
X-WR-CALDESC:Events for Krishna Island
REFRESH-INTERVAL;VALUE=DURATION:PT1H
X-Robots-Tag:noindex
X-PUBLISHED-TTL:PT1H
BEGIN:VTIMEZONE
TZID:Europe/Dublin
BEGIN:DAYLIGHT
TZOFFSETFROM:+0000
TZOFFSETTO:+0100
TZNAME:IST
DTSTART:20240331T010000
END:DAYLIGHT
BEGIN:STANDARD
TZOFFSETFROM:+0100
TZOFFSETTO:+0000
TZNAME:GMT
DTSTART:20241027T010000
END:STANDARD
BEGIN:DAYLIGHT
TZOFFSETFROM:+0000
TZOFFSETTO:+0100
TZNAME:IST
DTSTART:20250330T010000
END:DAYLIGHT
BEGIN:STANDARD
TZOFFSETFROM:+0100
TZOFFSETTO:+0000
TZNAME:GMT
DTSTART:20251026T010000
END:STANDARD
BEGIN:DAYLIGHT
TZOFFSETFROM:+0000
TZOFFSETTO:+0100
TZNAME:IST
DTSTART:20260329T010000
END:DAYLIGHT
BEGIN:STANDARD
TZOFFSETFROM:+0100
TZOFFSETTO:+0000
TZNAME:GMT
DTSTART:20261025T010000
END:STANDARD
END:VTIMEZONE
BEGIN:VEVENT
DTSTART;TZID=Europe/Dublin:20251206T120000
DTEND;TZID=Europe/Dublin:20251206T180000
DTSTAMP:20260423T230207
CREATED:20251202T144522Z
LAST-MODIFIED:20251202T152910Z
UID:280791-1765022400-1765044000@krishnaisland.org
SUMMARY:Japa retreat
DESCRIPTION: 12:00\n Barge\n\n\n 12:30\n Aarti\n\n\n 13:00\n Motivational Speech on Japa by HG Tulasi Priya Prabhu\n\n\n 14:00\n Japa starts\n\n\n 18:00\n Japa ends
URL:https://krishnaisland.org/event/japa-retreat/
LOCATION:Krishna Island
CATEGORIES:Events
ATTACH;FMTTYPE=image/webp:https://krishnaisland.org/wp-content/uploads/2025/12/chant-hare-krishna-jpg.webp
END:VEVENT
END:VCALENDAR