BEGIN:VCALENDAR
VERSION:2.0
PRODID:-//Krishna Island - ECPv6.15.20//NONSGML v1.0//EN
CALSCALE:GREGORIAN
METHOD:PUBLISH
X-WR-CALNAME:Krishna Island
X-ORIGINAL-URL:https://krishnaisland.org
X-WR-CALDESC:Events for Krishna Island
REFRESH-INTERVAL;VALUE=DURATION:PT1H
X-Robots-Tag:noindex
X-PUBLISHED-TTL:PT1H
BEGIN:VTIMEZONE
TZID:Europe/Dublin
BEGIN:DAYLIGHT
TZOFFSETFROM:+0000
TZOFFSETTO:+0100
TZNAME:IST
DTSTART:20240331T010000
END:DAYLIGHT
BEGIN:STANDARD
TZOFFSETFROM:+0100
TZOFFSETTO:+0000
TZNAME:GMT
DTSTART:20241027T010000
END:STANDARD
BEGIN:DAYLIGHT
TZOFFSETFROM:+0000
TZOFFSETTO:+0100
TZNAME:IST
DTSTART:20250330T010000
END:DAYLIGHT
BEGIN:STANDARD
TZOFFSETFROM:+0100
TZOFFSETTO:+0000
TZNAME:GMT
DTSTART:20251026T010000
END:STANDARD
BEGIN:DAYLIGHT
TZOFFSETFROM:+0000
TZOFFSETTO:+0100
TZNAME:IST
DTSTART:20260329T010000
END:DAYLIGHT
BEGIN:STANDARD
TZOFFSETFROM:+0100
TZOFFSETTO:+0000
TZNAME:GMT
DTSTART:20261025T010000
END:STANDARD
END:VTIMEZONE
BEGIN:VEVENT
DTSTART;TZID=Europe/Dublin:20250720T120000
DTEND;TZID=Europe/Dublin:20250720T170000
DTSTAMP:20260424T073046
CREATED:20250406T203636Z
LAST-MODIFIED:20250406T203636Z
UID:279387-1753012800-1753030800@krishnaisland.org
SUMMARY:Radha Govinda 39th Anniversary Festival Sunday 20 July 2025
DESCRIPTION:One of our biggest Festivals of the year. Anniversary of installation of Sri Sri Radha Govinda. Come an enjoy the unique celebrations. Including Radha-Govinda’s new outfit\, gorgeous decoration of Radha Govinda and their Altar with a profusion of fresh flowers\, Beautiful Kirtan led by accomplished Kirtan leaders\, opportunities to meet devotess of Radha Govinda who have been serving the Deities at different times over the last 38 years\, Abhishek bathing of Radha-Govinda\, And a huge Feast of Krishna Prasadam.
URL:https://krishnaisland.org/event/radha-govinda-39th-anniversary-festival-sunday-20-july-2025/
LOCATION:Krishna Island
ATTACH;FMTTYPE=image/jpeg:https://krishnaisland.org/wp-content/uploads/2024/01/ThebeautifulSriSriRadhaGovinda.jpg
END:VEVENT
END:VCALENDAR